BEGIN:VCALENDAR
VERSION:2.0
PRODID:-//Imagin&#039;Art - ECPv6.15.16//NONSGML v1.0//EN
CALSCALE:GREGORIAN
METHOD:PUBLISH
X-WR-CALNAME:Imagin&#039;Art
X-ORIGINAL-URL:https://imaginart.ch
X-WR-CALDESC:Évènements pour Imagin&#039;Art
REFRESH-INTERVAL;VALUE=DURATION:PT1H
X-Robots-Tag:noindex
X-PUBLISHED-TTL:PT1H
BEGIN:VTIMEZONE
TZID:Europe/Zurich
BEGIN:DAYLIGHT
TZOFFSETFROM:+0100
TZOFFSETTO:+0200
TZNAME:CEST
DTSTART:20210328T010000
END:DAYLIGHT
BEGIN:STANDARD
TZOFFSETFROM:+0200
TZOFFSETTO:+0100
TZNAME:CET
DTSTART:20211031T010000
END:STANDARD
BEGIN:DAYLIGHT
TZOFFSETFROM:+0100
TZOFFSETTO:+0200
TZNAME:CEST
DTSTART:20220327T010000
END:DAYLIGHT
BEGIN:STANDARD
TZOFFSETFROM:+0200
TZOFFSETTO:+0100
TZNAME:CET
DTSTART:20221030T010000
END:STANDARD
BEGIN:DAYLIGHT
TZOFFSETFROM:+0100
TZOFFSETTO:+0200
TZNAME:CEST
DTSTART:20230326T010000
END:DAYLIGHT
BEGIN:STANDARD
TZOFFSETFROM:+0200
TZOFFSETTO:+0100
TZNAME:CET
DTSTART:20231029T010000
END:STANDARD
END:VTIMEZONE
BEGIN:VEVENT
DTSTART;TZID=Europe/Zurich:20221008T100000
DTEND;TZID=Europe/Zurich:20221027T190000
DTSTAMP:20260423T031746
CREATED:20240416T142039Z
LAST-MODIFIED:20240416T142146Z
UID:1528-1665223200-1666897200@imaginart.ch
SUMMARY:Lancement du livre "1001 Petis anges de la mer\, les origines"
DESCRIPTION:Un livre de 48 pages français/anglais qui raconte l’aventure de Pachito et de son amie la sirène enchantée. Un nouveau « Toy Story » pour tous les âges. Avec des questions guidées pour les parents et les enseignants à la fin du livre.
URL:https://imaginart.ch/event/lancement-du-livre-1001-petis-anges-de-la-mer-les-origines/
CATEGORIES:Exposition
ATTACH;FMTTYPE=image/jpeg:https://imaginart.ch/wp-content/uploads/2024/02/couverture-site.jpg
ORGANIZER;CN="Fabiola Wunderlin":MAILTO:fwunderlin@imaginart.ch
END:VEVENT
END:VCALENDAR